BEGIN:VCALENDAR
VERSION:2.0
PRODID:-//Library Market//iCal Export//EN
BEGIN:VEVENT
SUMMARY:Adult Collage Lab at Saticoy Library
UID:9561
DTSTAMP:20260423T025100Z
DTSTART:20260725T213000Z
DTEND:20260726T000000Z
LOCATION:1292 Los Angeles Avenue, Ventura, CA 93004, United States
ROOM: Adult Collage Lab at Saticoy Library
DESCRIPTION:Adult Collage Lab at Saticoy Library Every fourth Saturday of
  the month, Saticoy Library opens its doors to collage enthusiasts of all 
 skill levels. Join us for our inaugural session on Saturday, April 25th, 
 2026 from 2:30–5:00 PM for a self-directed creative experience. Supplies
  are provided; however, you may bring your own. 
URL:https://www.library.venturacounty.gov/event/adult-collage-lab-saticoy-
 library-9561
END:VEVENT
END:VCALENDAR
