BEGIN:VCALENDAR
VERSION:2.0
PRODID:-//Library Market//iCal Export//EN
BEGIN:VEVENT
SUMMARY:STEAM Lab at the Meiners Oaks Library
UID:9555
DTSTAMP:20260424T012800Z
DTSTART:20260521T220000Z
DTEND:20260522T000000Z
LOCATION:400 South Lomita Avenue, Ojai, CA 93023, United States
ROOM: MNO-Meeting Room A/B
DESCRIPTION:Join us on Thursdays at the Meiners Oaks library for our STEAM
  LAB, from 3-5pm.  We will have different science, technology, and arts-r
 elated activities available for kids, teens and families.  Activities may
  be subject to change.May 7: CyanotypesMay 14: Rocket LaunchersMay 21: Owl
  PelletsMay 28: Sticker Fest and BookmarksJune 4: Board Games
URL:https://www.library.venturacounty.gov/event/steam-lab-meiners-oaks-lib
 rary-9555
END:VEVENT
END:VCALENDAR
