BEGIN:VCALENDAR
VERSION:2.0
PRODID:-//Library Market//iCal Export//EN
BEGIN:VEVENT
SUMMARY:Perler Beads at the Meiners Oaks Library
UID:9552
DTSTAMP:20260426T022100Z
DTSTART:20260603T203000Z
DTEND:20260603T223000Z
LOCATION:400 South Lomita Avenue, Ojai, CA 93023, United States
ROOM: MNO-Meeting Room A/B
DESCRIPTION:Join us at the Meiners Oaks Library on Wednesdays from 1:30-3:
 30pm to make Perler Bead creations.   Note: There will be no Perler Bead
  activity on Wednesday, May 27th. 
URL:https://www.library.venturacounty.gov/event/perler-beads-meiners-oaks-
 library-9552
END:VEVENT
END:VCALENDAR
