BEGIN:VCALENDAR
VERSION:2.0
PRODID:-//Library Market//iCal Export//EN
BEGIN:VEVENT
SUMMARY:Teen Tuesdays at the Meiners Oaks Library
UID:9539
DTSTAMP:20260423T231200Z
DTSTART:20260505T230000Z
DTEND:20260506T000000Z
LOCATION:400 South Lomita Avenue, Ojai, CA 93023, United States
ROOM: MNO-Meeting Room A/B
DESCRIPTION:Join us for Teen Tuesdays at the Meiners Oaks Library, for you
 th in Grades 6-10, from 4-5pm.  We have games and arts and crafts activit
 ies available.  Activities may be subject to change. May 5: Teen Board G
 amesMay 12: Mario Kart (Nintendo Switch)May 19: PaintingMay 26: Mario Kart
  (Nintendo Switch)June 2: Tote bag decorating 
URL:https://www.library.venturacounty.gov/event/teen-tuesdays-meiners-oaks
 -library-9539
END:VEVENT
END:VCALENDAR
