BEGIN:VCALENDAR
VERSION:2.0
PRODID:-//Library Market//iCal Export//EN
BEGIN:VEVENT
SUMMARY:LEGO Monday at the Meiners Oaks Library
UID:9537
DTSTAMP:20260422T190500Z
DTSTART:20260518T220000Z
DTEND:20260519T000000Z
LOCATION:400 South Lomita Avenue, Ojai, CA 93023, United States
ROOM: MNO-Meeting Room A/B
DESCRIPTION:Join us for LEGO at the Meiners Oaks Library on Mondays, from 
 3-5pm. 
URL:https://www.library.venturacounty.gov/event/lego-monday-meiners-oaks-l
 ibrary-9537
END:VEVENT
END:VCALENDAR
