BEGIN:VCALENDAR
VERSION:2.0
PRODID:-//Library Market//iCal Export//EN
BEGIN:VEVENT
SUMMARY:Special Event For Designated Participants-Oxnard School District C
 ollege and Career Fair
UID:9529
DTSTAMP:20260422T063600Z
DTSTART:20260425T153000Z
DTEND:20260425T190000Z
LOCATION:
DESCRIPTION:The Ventura County Library staff will be at the Oxnard School 
 District College and Career Fair event!Learn about the Ventura County Mob
 ile Library and all the wonderful services we have to offer. Get a libra
 ry card, pick up holds, check out and return items.Use our WiFi, wireless 
 printing services, and hourly laptop lending services.
URL:https://www.library.venturacounty.gov/event/special-event-designated-p
 articipants-oxnard-school-district-college-and-career-fair-9529
END:VEVENT
END:VCALENDAR
