BEGIN:VCALENDAR
VERSION:2.0
PRODID:-//Library Market//iCal Export//EN
BEGIN:VEVENT
SUMMARY:Special Event-Kids Fishing Day
UID:9528
DTSTAMP:20260422T025100Z
DTSTART:20260425T170000Z
DTEND:20260425T210000Z
LOCATION:Lake Casitas, 11311 Santa Ana, Ventura, CA 93001, United States
ROOM: MOB- Main Vehicle
DESCRIPTION:The Mobile Library will be at Lake Castias for their Kids Fish
 ing Day event. Learn about the Ventura County Mobile Library and all th
 e wonderful services we have to offer.You may get a library card, pick up 
 holds, return items, and check out items. The mobile library is also equi
 pped with WiFi and wireless printing services as well as hourly laptop len
 ding services.
URL:https://www.library.venturacounty.gov/event/special-event-kids-fishing
 -day-9528
END:VEVENT
END:VCALENDAR
