BEGIN:VCALENDAR
VERSION:2.0
PRODID:-//Library Market//iCal Export//EN
BEGIN:VEVENT
SUMMARY:Special Event For Designated Participants-E.P. Foster Elementary C
 arnival
UID:9527
DTSTAMP:20260422T043000Z
DTSTART:20260424T230000Z
DTEND:20260425T020000Z
LOCATION:
DESCRIPTION:The Mobile Library will be at the EP Foster Elementary School 
 Carnival for families, students and staff. Learn about the Ventura Count
 y Mobile Library and all the wonderful services we have to offer.You may 
 get a library card, pick up holds, return items, and check out items. The
  mobile library is also equipped with WiFi and wireless printing services 
 as well as hourly laptop lending services.
URL:https://www.library.venturacounty.gov/event/special-event-designated-p
 articipants-ep-foster-elementary-carnival-9527
END:VEVENT
END:VCALENDAR
