BEGIN:VCALENDAR
VERSION:2.0
PRODID:-//Library Market//iCal Export//EN
BEGIN:VEVENT
SUMMARY:Special Event For Designated Participants First 5 Spring into Play
UID:9526
DTSTAMP:20260422T003400Z
DTSTART:20260424T170000Z
DTEND:20260424T183000Z
LOCATION:
DESCRIPTION:The Mobile Library, in collaboration with First 5, will be at 
 their Spring into Play event!Learn about the Ventura County Mobile Librar
 y and all the wonderful services we have to offer.You may get a library c
 ard, pick up holds, return items, and check out items. The mobile library
  is also equipped with WiFi and wireless printing services as well as hour
 ly laptop lending services.
URL:https://www.library.venturacounty.gov/event/special-event-designated-p
 articipants-first-5-spring-play-9526
END:VEVENT
END:VCALENDAR
