BEGIN:VCALENDAR
VERSION:2.0
PRODID:-//Library Market//iCal Export//EN
BEGIN:VEVENT
SUMMARY:For Designated Participants-Olivelands TK Storytime
UID:9523
DTSTAMP:20260422T082900Z
DTSTART:20260423T190000Z
DTEND:20260423T193000Z
LOCATION:5600 Everglades, Ventura, CA 93003, United States
ROOM: For Designated Participants-Olivelands TK Storytime
DESCRIPTION:The Mobile Library staff will be at Olivelands School for stor
 ytime for TK students!  
URL:https://www.library.venturacounty.gov/event/designated-participants-ol
 ivelands-tk-storytime-9523
END:VEVENT
END:VCALENDAR
