BEGIN:VCALENDAR
VERSION:2.0
PRODID:-//Library Market//iCal Export//EN
BEGIN:VEVENT
SUMMARY:French Conversation Circle
UID:9522
DTSTAMP:20260422T194000Z
DTSTART:20260721T010000Z
DTEND:20260721T020000Z
LOCATION:899 North Kanan Road, Oak Park, CA 91377, United States
ROOM: French Conversation Circle
DESCRIPTION:You learned French and want to practice or share your experien
 ces or travels in French, this circle is for you! French Conversation Circ
 le is designed for learners to review and practice in a relaxed and friend
 ly environment. We will meet once a month on Mondays from 6pm to 7pm. Chec
 k calendar monthly to confirm dates. This is an adult program. Join the fu
 n and see you there!
URL:https://www.library.venturacounty.gov/event/french-conversation-circle
 -9522
END:VEVENT
END:VCALENDAR
