BEGIN:VCALENDAR
VERSION:2.0
PRODID:-//Library Market//iCal Export//EN
BEGIN:VEVENT
SUMMARY:Rocket Launch Presented by Pathways for Science
UID:9520
DTSTAMP:20260421T120200Z
DTSTART:20260420T230000Z
DTEND:20260421T000000Z
LOCATION:2820 Jourdan Street, Oxnard, CA 93036, United States
ROOM: Rocket Launch Presented by Pathways for Science
DESCRIPTION:Build a rocket and watch it fly 30+ feet!Designed for ages 5-1
 8
URL:https://www.library.venturacounty.gov/event/rocket-launch-presented-pa
 thways-science-9520
END:VEVENT
END:VCALENDAR
