BEGIN:VCALENDAR
VERSION:2.0
PRODID:-//Library Market//iCal Export//EN
BEGIN:VEVENT
SUMMARY:Summer Lanterns
UID:9519
DTSTAMP:20260421T083500Z
DTSTART:20260515T230000Z
DTEND:20260516T003000Z
LOCATION:2820 Jourdan Street, Oxnard, CA 93036, United States
ROOM: Summer Lanterns
DESCRIPTION:The countdown to summer begins with a summer theme lantern cra
 ft!Designed for ages 5-18
URL:https://www.library.venturacounty.gov/event/summer-lanterns-9519
END:VEVENT
END:VCALENDAR
