BEGIN:VCALENDAR
VERSION:2.0
PRODID:-//Library Market//iCal Export//EN
BEGIN:VEVENT
SUMMARY:LEGO Summer
UID:9518
DTSTAMP:20260425T223500Z
DTSTART:20260508T230000Z
DTEND:20260509T003000Z
LOCATION:2820 Jourdan Street, Oxnard, CA 93036, United States
ROOM: LEGO Summer
DESCRIPTION:Create a summer scene, what will you do during your vacation?D
 esigned for ages 5-18
URL:https://www.library.venturacounty.gov/event/lego-summer-9518
END:VEVENT
END:VCALENDAR
