BEGIN:VCALENDAR
VERSION:2.0
PRODID:-//Library Market//iCal Export//EN
BEGIN:VEVENT
SUMMARY:TEEN Tote Bags
UID:9517
DTSTAMP:20260421T114900Z
DTSTART:20260501T230000Z
DTEND:20260502T003000Z
LOCATION:2820 Jourdan Street, Oxnard, CA 93036, United States
ROOM: TEEN Tote Bags
DESCRIPTION:TEENS! Destress and decorate a tote bag!For ages 13-18
URL:https://www.library.venturacounty.gov/event/teen-tote-bags-9517
END:VEVENT
END:VCALENDAR
