BEGIN:VCALENDAR
VERSION:2.0
PRODID:-//Library Market//iCal Export//EN
BEGIN:VEVENT
SUMMARY:Ukulele Jam
UID:9516
DTSTAMP:20260421T031700Z
DTSTART:20260421T013000Z
DTEND:20260421T033000Z
LOCATION:510 Park Avenue, Port Hueneme, CA 93041, United States
ROOM: Ukulele Jam
DESCRIPTION:Join us at the Ray D. Prueter Library every 1st and 3rd Monday
  at 6:30pm for a ukulele jam session.
URL:https://www.library.venturacounty.gov/event/ukulele-jam-9516
END:VEVENT
END:VCALENDAR
